BEGIN:VCALENDAR
VERSION:2.0
PRODID:-//HINDU AND JAIN TEMPLE OF LAS VEGAS - ECPv6.15.20//NONSGML v1.0//EN
CALSCALE:GREGORIAN
METHOD:PUBLISH
X-ORIGINAL-URL:https://hindutemplelv.org
X-WR-CALDESC:Events for HINDU AND JAIN TEMPLE OF LAS VEGAS
REFRESH-INTERVAL;VALUE=DURATION:PT1H
X-Robots-Tag:noindex
X-PUBLISHED-TTL:PT1H
BEGIN:VTIMEZONE
TZID:America/Los_Angeles
BEGIN:DAYLIGHT
TZOFFSETFROM:-0800
TZOFFSETTO:-0700
TZNAME:PDT
DTSTART:20230312T100000
END:DAYLIGHT
BEGIN:STANDARD
TZOFFSETFROM:-0700
TZOFFSETTO:-0800
TZNAME:PST
DTSTART:20231105T090000
END:STANDARD
BEGIN:DAYLIGHT
TZOFFSETFROM:-0800
TZOFFSETTO:-0700
TZNAME:PDT
DTSTART:20240310T100000
END:DAYLIGHT
BEGIN:STANDARD
TZOFFSETFROM:-0700
TZOFFSETTO:-0800
TZNAME:PST
DTSTART:20241103T090000
END:STANDARD
BEGIN:DAYLIGHT
TZOFFSETFROM:-0800
TZOFFSETTO:-0700
TZNAME:PDT
DTSTART:20250309T100000
END:DAYLIGHT
BEGIN:STANDARD
TZOFFSETFROM:-0700
TZOFFSETTO:-0800
TZNAME:PST
DTSTART:20251102T090000
END:STANDARD
BEGIN:DAYLIGHT
TZOFFSETFROM:-0800
TZOFFSETTO:-0700
TZNAME:PDT
DTSTART:20260308T100000
END:DAYLIGHT
BEGIN:STANDARD
TZOFFSETFROM:-0700
TZOFFSETTO:-0800
TZNAME:PST
DTSTART:20261101T090000
END:STANDARD
END:VTIMEZONE
BEGIN:VEVENT
DTSTART;TZID=America/Los_Angeles:20250405T080000
DTEND;TZID=America/Los_Angeles:20250405T170000
DTSTAMP:20260422T143909
CREATED:20250324T070304Z
LAST-MODIFIED:20250324T072533Z
UID:4916-1743840000-1743872400@hindutemplelv.org
SUMMARY:Durga Ashtami
DESCRIPTION:
URL:https://hindutemplelv.org/event/durga-ashtami/
END:VEVENT
BEGIN:VEVENT
DTSTART;TZID=America/Los_Angeles:20250401T200000
DTEND;TZID=America/Los_Angeles:20250401T203000
DTSTAMP:20260422T143909
CREATED:20250411T231307Z
LAST-MODIFIED:20240111T001527Z
UID:3674-1743537600-1743539400@hindutemplelv.org
SUMMARY:Evening Aarti
DESCRIPTION:
URL:https://hindutemplelv.org/event/evening-aarti/
CATEGORIES:Everyday Event
END:VEVENT
BEGIN:VEVENT
DTSTART;TZID=America/Los_Angeles:20250329T183000
DTEND;TZID=America/Los_Angeles:20250329T200000
DTSTAMP:20260422T143909
CREATED:20230411T222900Z
LAST-MODIFIED:20250324T063552Z
UID:3648-1743273000-1743278400@hindutemplelv.org
SUMMARY:Chaitra Navratri - Gudi Padwa - Ugadi
DESCRIPTION:
URL:https://hindutemplelv.org/event/chaitra-navratri-gudi-padwa-ugadi/
END:VEVENT
BEGIN:VEVENT
DTSTART;TZID=America/Los_Angeles:20250119T103000
DTEND;TZID=America/Los_Angeles:20250119T143000
DTSTAMP:20260422T143909
CREATED:20240105T232045Z
LAST-MODIFIED:20241229T050552Z
UID:4748-1737282600-1737297000@hindutemplelv.org
SUMMARY:Ayyappaswamy Padi Puja
DESCRIPTION:
URL:https://hindutemplelv.org/event/ayyappaswamy-padi-puja/
LOCATION:Hindu and Jain Temple of Las Vegas
END:VEVENT
BEGIN:VEVENT
DTSTART;TZID=America/Los_Angeles:20250118T103000
DTEND;TZID=America/Los_Angeles:20250118T113000
DTSTAMP:20260422T143909
CREATED:20241229T044705Z
LAST-MODIFIED:20241229T050542Z
UID:4894-1737196200-1737199800@hindutemplelv.org
SUMMARY:Makara Sankranti and Pongal Celebration
DESCRIPTION:Lakshmi Venkateshwara Kalyanam
URL:https://hindutemplelv.org/event/makara-sankranti-and-pongal-celebration/
END:VEVENT
BEGIN:VEVENT
DTSTART;TZID=America/Los_Angeles:20250116T190000
DTEND;TZID=America/Los_Angeles:20250116T200000
DTSTAMP:20260422T143909
CREATED:20241229T045146Z
LAST-MODIFIED:20241229T045318Z
UID:4155-1737054000-1737057600@hindutemplelv.org
SUMMARY:Ganesh Sankasti Puja
DESCRIPTION:
URL:https://hindutemplelv.org/event/ganesh-puja-tarpan-sankasti-chathurthi/
END:VEVENT
BEGIN:VEVENT
DTSTART;TZID=America/Los_Angeles:20250114T183000
DTEND;TZID=America/Los_Angeles:20250114T200000
DTSTAMP:20260422T143909
CREATED:20240105T233245Z
LAST-MODIFIED:20241229T050609Z
UID:4756-1736879400-1736884800@hindutemplelv.org
SUMMARY:Makar Sankranti & Pongal
DESCRIPTION:
URL:https://hindutemplelv.org/event/makara-sankranti/
END:VEVENT
BEGIN:VEVENT
DTSTART;TZID=America/Los_Angeles:20250114T180000
DTEND;TZID=America/Los_Angeles:20250114T200000
DTSTAMP:20260422T143909
CREATED:20230623T174621Z
LAST-MODIFIED:20241229T050617Z
UID:4042-1736877600-1736884800@hindutemplelv.org
SUMMARY:SatyaNarayan Puja
DESCRIPTION:
URL:https://hindutemplelv.org/event/satyanarayan-puja/
LOCATION:Hindu And Jain Temple Of Las Vegas\, 1701 Sageberry Dr\, Las Vegas\, NV\, 89144\, United States
ATTACH;FMTTYPE=image/jpeg:https://hindutemplelv.org/wp-content/uploads/2023/06/SatyaNarayanJul.jpg
END:VEVENT
BEGIN:VEVENT
DTSTART;TZID=America/Los_Angeles:20250113T183000
DTEND;TZID=America/Los_Angeles:20250113T193000
DTSTAMP:20260422T143909
CREATED:20241229T044137Z
LAST-MODIFIED:20241229T050627Z
UID:4889-1736793000-1736796600@hindutemplelv.org
SUMMARY:Lohri
DESCRIPTION:
URL:https://hindutemplelv.org/event/lohri-2/
END:VEVENT
BEGIN:VEVENT
DTSTART;TZID=America/Los_Angeles:20250104T100000
DTEND;TZID=America/Los_Angeles:20250105T070000
DTSTAMP:20260422T143909
CREATED:20241229T041936Z
LAST-MODIFIED:20241229T050646Z
UID:4880-1735984800-1736060400@hindutemplelv.org
SUMMARY:Shree Ramcharit Manas Akhand Path
DESCRIPTION:
URL:https://hindutemplelv.org/event/shree-ramcharit-manas-akhand-path/
ATTACH;FMTTYPE=image/jpeg:https://hindutemplelv.org/wp-content/uploads/2024/12/WhatsApp-Image-2024-12-21-at-8.27.03-PM.jpeg
END:VEVENT
BEGIN:VEVENT
DTSTART;TZID=America/Los_Angeles:20250104T100000
DTEND;TZID=America/Los_Angeles:20250104T130000
DTSTAMP:20260422T143909
CREATED:20230623T170136Z
LAST-MODIFIED:20241229T041807Z
UID:4035-1735984800-1735995600@hindutemplelv.org
SUMMARY:Balaji Abhishek
DESCRIPTION:First saturday of every month
URL:https://hindutemplelv.org/event/balaji-abhishek/
LOCATION:Hindu And Jain Temple Of Las Vegas\, 1701 Sageberry Dr\, Las Vegas\, NV\, 89144\, United States
CATEGORIES:FirstSaturdayOfMonth
ATTACH;FMTTYPE=image/jpeg:https://hindutemplelv.org/wp-content/uploads/2023/06/BalajiJul.jpg
END:VEVENT
BEGIN:VEVENT
DTSTART;TZID=America/Los_Angeles:20250101T080000
DTEND;TZID=America/Los_Angeles:20250101T203000
DTSTAMP:20260422T143909
CREATED:20241229T041541Z
LAST-MODIFIED:20241229T050658Z
UID:4877-1735718400-1735763400@hindutemplelv.org
SUMMARY:All Day Archana Puja
DESCRIPTION:
URL:https://hindutemplelv.org/event/all-day-archana-puja/
END:VEVENT
BEGIN:VEVENT
DTSTART;TZID=America/Los_Angeles:20241027T160000
DTEND;TZID=America/Los_Angeles:20241027T210000
DTSTAMP:20260422T143909
CREATED:20240918T035748Z
LAST-MODIFIED:20241019T022045Z
UID:4866-1730044800-1730062800@hindutemplelv.org
SUMMARY:Diwali Mela
DESCRIPTION:
URL:https://hindutemplelv.org/event/diwali-mela/
END:VEVENT
BEGIN:VEVENT
DTSTART;TZID=America/Los_Angeles:20241010T180000
DTEND;TZID=America/Los_Angeles:20241010T203000
DTSTAMP:20260422T143909
CREATED:20230411T222946Z
LAST-MODIFIED:20240108T042258Z
UID:3663-1728583200-1728592200@hindutemplelv.org
SUMMARY:Durga Mata ki Chowki (Shardiya Navratri)
DESCRIPTION:
URL:https://hindutemplelv.org/event/durga-mata-ki-chowki-2/
LOCATION:Hindu And Jain Temple Of Las Vegas\, 1701 Sageberry Dr\, Las Vegas\, NV\, 89144\, United States
END:VEVENT
BEGIN:VEVENT
DTSTART;TZID=America/Los_Angeles:20240921T110000
DTEND;TZID=America/Los_Angeles:20240921T140000
DTSTAMP:20260422T143909
CREATED:20240917T055459Z
LAST-MODIFIED:20240917T055658Z
UID:4862-1726916400-1726927200@hindutemplelv.org
SUMMARY:Paryushan and Das Lakshan
DESCRIPTION:Kshamavani Parva \n\n\n\nMichhami Dukkadam (A day of Forgiveness) \n\n\n\nFollowed by priti Bhoj/Swami Vatsalya and a Skit on Forgiveness
URL:https://hindutemplelv.org/event/paryushan-and-das-lakshan/
END:VEVENT
BEGIN:VEVENT
DTSTART;TZID=America/Los_Angeles:20240907T153000
DTEND;TZID=America/Los_Angeles:20240907T191500
DTSTAMP:20260422T143909
CREATED:20240108T033322Z
LAST-MODIFIED:20240108T033324Z
UID:4791-1725723000-1725736500@hindutemplelv.org
SUMMARY:Samvatsari Pratikraman
DESCRIPTION:
URL:https://hindutemplelv.org/event/samvatsari-pratikraman/
END:VEVENT
BEGIN:VEVENT
DTSTART;TZID=America/Los_Angeles:20240907T080000
DTEND;TZID=America/Los_Angeles:20240916T170000
DTSTAMP:20260422T143909
CREATED:20240108T033508Z
LAST-MODIFIED:20240108T033509Z
UID:4793-1725696000-1726506000@hindutemplelv.org
SUMMARY:⁠Das Laxan Mahaparva
DESCRIPTION:
URL:https://hindutemplelv.org/event/%e2%81%a0das-laxan-mahaparva/
END:VEVENT
BEGIN:VEVENT
DTSTART;TZID=America/Los_Angeles:20240906T100000
DTEND;TZID=America/Los_Angeles:20240906T110000
DTSTAMP:20260422T143909
CREATED:20230411T222931Z
LAST-MODIFIED:20240108T041237Z
UID:3659-1725616800-1725620400@hindutemplelv.org
SUMMARY:Ganesh Chaturthi (Sthapana )
DESCRIPTION:
URL:https://hindutemplelv.org/event/ganesh-chaturthi-sthapana/
LOCATION:Hindu And Jain Temple Of Las Vegas\, 1701 Sageberry Dr\, Las Vegas\, NV\, 89144\, United States
END:VEVENT
BEGIN:VEVENT
DTSTART;TZID=America/Los_Angeles:20240901T130000
DTEND;TZID=America/Los_Angeles:20240901T170000
DTSTAMP:20260422T143909
CREATED:20240108T033144Z
LAST-MODIFIED:20240108T033146Z
UID:4789-1725195600-1725210000@hindutemplelv.org
SUMMARY:16 Dream Celebration and Mahaveer Janma Vanchan
DESCRIPTION:
URL:https://hindutemplelv.org/event/16-dream-celebration-and-mahaveer-janma-vanchan/
END:VEVENT
BEGIN:VEVENT
DTSTART;TZID=America/Los_Angeles:20240831T080000
DTEND;TZID=America/Los_Angeles:20240907T170000
DTSTAMP:20260422T143909
CREATED:20240108T032819Z
LAST-MODIFIED:20240108T032945Z
UID:4786-1725091200-1725728400@hindutemplelv.org
SUMMARY:Jain Paryushan Mahaparva
DESCRIPTION:Jain Paryushan Mahaparva will be from 31-Aug-23 to 7-Sep-24
URL:https://hindutemplelv.org/event/jain-paryushan-mahaparva/
END:VEVENT
BEGIN:VEVENT
DTSTART;TZID=America/Los_Angeles:20240819T183000
DTEND;TZID=America/Los_Angeles:20240819T203000
DTSTAMP:20260422T143909
CREATED:20240108T041052Z
LAST-MODIFIED:20240108T041054Z
UID:4802-1724092200-1724099400@hindutemplelv.org
SUMMARY:Raksha Bandhan - Satyanarayan Katha
DESCRIPTION:Raksha Bandhan – Satyanarayan Katha
URL:https://hindutemplelv.org/event/raksha-bandhan-satyanarayan-katha/
END:VEVENT
BEGIN:VEVENT
DTSTART;TZID=America/Los_Angeles:20240427T080000
DTEND;TZID=America/Los_Angeles:20240428T170000
DTSTAMP:20260422T143909
CREATED:20240107T021055Z
LAST-MODIFIED:20240107T041107Z
UID:4764-1714204800-1714323600@hindutemplelv.org
SUMMARY:Temple Anniversary - (Nav Grah Yagna)
DESCRIPTION:
URL:https://hindutemplelv.org/event/temple-anniversary-nav-grah-yagna/
LOCATION:Hindu And Jain Temple Of Las Vegas\, 1701 Sageberry Dr\, Las Vegas\, NV\, 89144\, United States
END:VEVENT
BEGIN:VEVENT
DTSTART;TZID=America/Los_Angeles:20240421T090000
DTEND;TZID=America/Los_Angeles:20240421T130000
DTSTAMP:20260422T143909
CREATED:20230411T222916Z
LAST-MODIFIED:20240108T032204Z
UID:3652-1713690000-1713704400@hindutemplelv.org
SUMMARY:Mahaveer Jayanti
DESCRIPTION:
URL:https://hindutemplelv.org/event/mahaveer-jayanti-celebrating-4-9-23/
END:VEVENT
BEGIN:VEVENT
DTSTART;TZID=America/Los_Angeles:20240415T181500
DTEND;TZID=America/Los_Angeles:20240415T203000
DTSTAMP:20260422T143909
CREATED:20230411T222901Z
LAST-MODIFIED:20240108T042114Z
UID:3649-1713204900-1713213000@hindutemplelv.org
SUMMARY:Durga Mata ki Chowki (Chaitra Navratri)
DESCRIPTION:
URL:https://hindutemplelv.org/event/durga-mata-ki-chowki/
LOCATION:Hindu And Jain Temple Of Las Vegas\, 1701 Sageberry Dr\, Las Vegas\, NV\, 89144\, United States
END:VEVENT
BEGIN:VEVENT
DTSTART;TZID=America/Los_Angeles:20240414T170000
DTEND;TZID=America/Los_Angeles:20240414T200000
DTSTAMP:20260422T143909
CREATED:20240404T021031Z
LAST-MODIFIED:20240404T021440Z
UID:4850-1713114000-1713124800@hindutemplelv.org
SUMMARY:Ugadi Celebrations
DESCRIPTION:Cultural Program \, Panchangam Shravanam\, and Prasad (Dinner)
URL:https://hindutemplelv.org/event/ugadi-celebrations/
END:VEVENT
BEGIN:VEVENT
DTSTART;TZID=America/Los_Angeles:20240324T183000
DTEND;TZID=America/Los_Angeles:20240324T193000
DTSTAMP:20260422T143909
CREATED:20230411T222900Z
LAST-MODIFIED:20240108T045730Z
UID:3647-1711305000-1711308600@hindutemplelv.org
SUMMARY:Holi (Holika Dahan)
DESCRIPTION:
URL:https://hindutemplelv.org/event/holi-holika-dahan/
END:VEVENT
BEGIN:VEVENT
DTSTART;TZID=America/Los_Angeles:20240308T190000
DTEND;TZID=America/Los_Angeles:20240308T233000
DTSTAMP:20260422T143909
CREATED:20230411T222900Z
LAST-MODIFIED:20240108T045636Z
UID:3646-1709924400-1709940600@hindutemplelv.org
SUMMARY:Maha shivratri
DESCRIPTION:
URL:https://hindutemplelv.org/event/maha-shivratri/
END:VEVENT
BEGIN:VEVENT
DTSTART;TZID=America/Los_Angeles:20240213T183000
DTEND;TZID=America/Los_Angeles:20240213T193000
DTSTAMP:20260422T143909
CREATED:20230411T222858Z
LAST-MODIFIED:20240107T015734Z
UID:3645-1707849000-1707852600@hindutemplelv.org
SUMMARY:Vasant Panchami - Saraswati Puja
DESCRIPTION:
URL:https://hindutemplelv.org/event/vasant-panchami-saraswati-puja/
END:VEVENT
BEGIN:VEVENT
DTSTART;TZID=America/Los_Angeles:20240113T103000
DTEND;TZID=America/Los_Angeles:20240113T130000
DTSTAMP:20260422T143909
CREATED:20240105T231420Z
LAST-MODIFIED:20240113T145139Z
UID:4746-1705141800-1705150800@hindutemplelv.org
SUMMARY:Goda Kalyanam
DESCRIPTION:Lakshmi Venkateshwara Kalyanam
URL:https://hindutemplelv.org/event/lakshmi-venkateshwara-kalyanam/
END:VEVENT
BEGIN:VEVENT
DTSTART;TZID=America/Los_Angeles:20240101T080000
DTEND;TZID=America/Los_Angeles:20240101T200000
DTSTAMP:20260422T143909
CREATED:20230411T222857Z
LAST-MODIFIED:20231224T023505Z
UID:3641-1704096000-1704139200@hindutemplelv.org
SUMMARY:New Year 2024
DESCRIPTION:
URL:https://hindutemplelv.org/event/new-year-2023/
END:VEVENT
END:VCALENDAR